BEGIN:VCALENDAR
VERSION:2.0
PRODID:-//Gippsland Women&#039;s Health - ECPv4.8.1//NONSGML v1.0//EN
CALSCALE:GREGORIAN
METHOD:PUBLISH
X-WR-CALNAME:Gippsland Women&#039;s Health
X-ORIGINAL-URL:https://www.gwhealth.asn.au
X-WR-CALDESC:Events for Gippsland Women&#039;s Health
BEGIN:VEVENT
DTSTART;TZID=UTC+0:20200306T140000
DTEND;TZID=UTC+0:20200306T150000
DTSTAMP:20200301T131205
CREATED:20200226T220931Z
LAST-MODIFIED:20200226T221131Z
UID:4105-1583503200-1583506800@www.gwhealth.asn.au
SUMMARY:International Women's Day First Friday at the Gippsland Art Gallery
DESCRIPTION:Please join us for a casual conversation with the 5 artist featured in the Powerful Together\, Uniquely Different art exhibition\, currently on at level 2\, Gippsland Art Gallery\, Foster St\, Sale. We will discuss International Women’s Day\, the artist work and what it means to them. \nThe exhibition includes established and emerging Gippsland female artists with diverse artistic styles from right across Gippsland. The artists are Kate Shone and Cat Blamey\, Casey Miller\, Claire Marston\, Emma Hearnes and Jaquie Swan. The exhibition will open at the Gippsland Art Gallery on Friday 22 February and run until Sunday 12 April. \nInternational Women’s Day\, March 8\, is a global day celebrating the social\, economic\, cultural and political achievements of women. It also marks a call to action for accelerating women’s equality. We hope this exhibition will empower the viewer to understand the importance of advancing equality\, while celebrating women’s unique differences and valuable contribution and achievements in our community. \n
URL:https://www.gwhealth.asn.au/event/iwd2020first-friday/
LOCATION:Gippsland Art Gallery\, 70 Foster Street\, Sale\, vic\, 3850\, Australia
ATTACH;FMTTYPE=image/png:https://www.gwhealth.asn.au/wp-content/uploads/2020/02/IWD-2020-web-1.png
END:VEVENT
END:VCALENDAR